BEGIN:VCALENDAR
VERSION:2.0
PRODID:-//Georgia School of Innovation and the Classics - ECPv6.15.15//NONSGML v1.0//EN
CALSCALE:GREGORIAN
METHOD:PUBLISH
X-WR-CALNAME:Georgia School of Innovation and the Classics
X-ORIGINAL-URL:https://www.gsiccharter.com
X-WR-CALDESC:Events for Georgia School of Innovation and the Classics
REFRESH-INTERVAL;VALUE=DURATION:PT1H
X-Robots-Tag:noindex
X-PUBLISHED-TTL:PT1H
BEGIN:VTIMEZONE
TZID:America/New_York
BEGIN:DAYLIGHT
TZOFFSETFROM:-0500
TZOFFSETTO:-0400
TZNAME:EDT
DTSTART:20250309T070000
END:DAYLIGHT
BEGIN:STANDARD
TZOFFSETFROM:-0400
TZOFFSETTO:-0500
TZNAME:EST
DTSTART:20251102T060000
END:STANDARD
BEGIN:DAYLIGHT
TZOFFSETFROM:-0500
TZOFFSETTO:-0400
TZNAME:EDT
DTSTART:20260308T070000
END:DAYLIGHT
BEGIN:STANDARD
TZOFFSETFROM:-0400
TZOFFSETTO:-0500
TZNAME:EST
DTSTART:20261101T060000
END:STANDARD
BEGIN:DAYLIGHT
TZOFFSETFROM:-0500
TZOFFSETTO:-0400
TZNAME:EDT
DTSTART:20270314T070000
END:DAYLIGHT
BEGIN:STANDARD
TZOFFSETFROM:-0400
TZOFFSETTO:-0500
TZNAME:EST
DTSTART:20271107T060000
END:STANDARD
END:VTIMEZONE
BEGIN:VEVENT
DTSTART;TZID=America/New_York:20260522T130000
DTEND;TZID=America/New_York:20260522T140000
DTSTAMP:20260420T172633
CREATED:20260108T161451Z
LAST-MODIFIED:20260108T161451Z
UID:673-1779454800-1779458400@www.gsiccharter.com
SUMMARY:Mandatory Graduation Practice
DESCRIPTION:All graduating seniors MUST ATTEND.
URL:https://www.gsiccharter.com/event/mandatory-graduation-practice/
LOCATION:Hephzibah Agricultural Center\, 4425 Wilson Rd\, Hephzibah\, GA\, 30815\, United States
END:VEVENT
BEGIN:VEVENT
DTSTART;TZID=America/New_York:20260523T100000
DTEND;TZID=America/New_York:20260523T113000
DTSTAMP:20260420T172633
CREATED:20251211T133426Z
LAST-MODIFIED:20251211T133426Z
UID:665-1779530400-1779535800@www.gsiccharter.com
SUMMARY:Class of 2026 Graduation
DESCRIPTION:
URL:https://www.gsiccharter.com/event/class-of-2026-graduation/
LOCATION:Hephzibah Agricultural Center\, 4425 Wilson Rd\, Hephzibah\, GA\, 30815\, United States
ORGANIZER;CN="tthompson@gsiccharter.com":MAILTO:tthompson@gsiccharter.com
END:VEVENT
END:VCALENDAR