BEGIN:VCALENDAR
VERSION:2.0
PRODID:-//Georgia School of Innovation and the Classics - ECPv6.15.15//NONSGML v1.0//EN
CALSCALE:GREGORIAN
METHOD:PUBLISH
X-WR-CALNAME:Georgia School of Innovation and the Classics
X-ORIGINAL-URL:https://www.gsiccharter.com
X-WR-CALDESC:Events for Georgia School of Innovation and the Classics
REFRESH-INTERVAL;VALUE=DURATION:PT1H
X-Robots-Tag:noindex
X-PUBLISHED-TTL:PT1H
BEGIN:VTIMEZONE
TZID:America/New_York
BEGIN:DAYLIGHT
TZOFFSETFROM:-0500
TZOFFSETTO:-0400
TZNAME:EDT
DTSTART:20240310T070000
END:DAYLIGHT
BEGIN:STANDARD
TZOFFSETFROM:-0400
TZOFFSETTO:-0500
TZNAME:EST
DTSTART:20241103T060000
END:STANDARD
BEGIN:DAYLIGHT
TZOFFSETFROM:-0500
TZOFFSETTO:-0400
TZNAME:EDT
DTSTART:20250309T070000
END:DAYLIGHT
BEGIN:STANDARD
TZOFFSETFROM:-0400
TZOFFSETTO:-0500
TZNAME:EST
DTSTART:20251102T060000
END:STANDARD
BEGIN:DAYLIGHT
TZOFFSETFROM:-0500
TZOFFSETTO:-0400
TZNAME:EDT
DTSTART:20260308T070000
END:DAYLIGHT
BEGIN:STANDARD
TZOFFSETFROM:-0400
TZOFFSETTO:-0500
TZNAME:EST
DTSTART:20261101T060000
END:STANDARD
BEGIN:DAYLIGHT
TZOFFSETFROM:-0500
TZOFFSETTO:-0400
TZNAME:EDT
DTSTART:20270314T070000
END:DAYLIGHT
BEGIN:STANDARD
TZOFFSETFROM:-0400
TZOFFSETTO:-0500
TZNAME:EST
DTSTART:20271107T060000
END:STANDARD
END:VTIMEZONE
BEGIN:VEVENT
DTSTART;TZID=America/New_York:20260421T180000
DTEND;TZID=America/New_York:20260421T200000
DTSTAMP:20260422T103338
CREATED:20260401T120921Z
LAST-MODIFIED:20260401T120921Z
UID:699-1776794400-1776801600@www.gsiccharter.com
SUMMARY:Elementary Art Show
DESCRIPTION:
URL:https://www.gsiccharter.com/event/elementary-art-show/
CATEGORIES:Dance/Social Event
END:VEVENT
BEGIN:VEVENT
DTSTART;TZID=America/New_York:20260313T190000
DTEND;TZID=America/New_York:20260313T230000
DTSTAMP:20260422T103338
CREATED:20260108T161004Z
LAST-MODIFIED:20260108T161004Z
UID:669-1773428400-1773442800@www.gsiccharter.com
SUMMARY:High School Prom
DESCRIPTION:More details can be found on your Class of 20xx Google Classroom page.  Contact your class sponsor if you have any questions.
URL:https://www.gsiccharter.com/event/high-school-prom-2/
LOCATION:Brothersville Event Center\, 4536 Brothersville Rd.\, Hephzibah\, GA\, 30815\, United States
CATEGORIES:Dance/Social Event
END:VEVENT
BEGIN:VEVENT
DTSTART;TZID=America/New_York:20260124T170000
DTEND;TZID=America/New_York:20260124T190000
DTSTAMP:20260422T103338
CREATED:20260108T161811Z
LAST-MODIFIED:20260108T161811Z
UID:674-1769274000-1769281200@www.gsiccharter.com
SUMMARY:Middle School Dance
DESCRIPTION:Theme: Hollywood Nights \nTickets: $30 purchase by 1/16/26.  Make checks payable to GSIC. \nLocation:  Main cafeteria \n  \n 
URL:https://www.gsiccharter.com/event/middle-school-dance/
LOCATION:GSIC\, 5073 Storey Mill Road\, Hephzibah\, GA\, 30815\, United States
CATEGORIES:Dance/Social Event
ORGANIZER;CN="Jean Vaught":MAILTO:jvaught@gsiccharter.com
END:VEVENT
BEGIN:VEVENT
DTSTART;TZID=America/New_York:20251108T160000
DTEND;TZID=America/New_York:20251108T190000
DTSTAMP:20260422T103338
CREATED:20251023T132310Z
LAST-MODIFIED:20251023T132311Z
UID:643-1762617600-1762628400@www.gsiccharter.com
SUMMARY:Annual Fall Festival
DESCRIPTION:Fall Festival \nWe are excited to invite our school community to the Fall Festival on Saturday\, November 8th\, from 4:00–7:00 PM! \n✨ What’s Happening:\n🎶 Live music and a street dance (6:00–7:00 PM)\n🔥 Cozy fire pit area\n🎯 Fun games for all ages\n🛍️ Local vendors and food booths (4:00–6:00 PM) \nThis is a wonderful opportunity for families\, friends\, and community members to come together and celebrate the season. We hope to see you there for an evening filled with fun\, laughter\, and memories!
URL:https://www.gsiccharter.com/event/annual-fall-festival/
CATEGORIES:Dance/Social Event
ORGANIZER;CN="Kristina Teal":MAILTO:kteal@gsiccharter.com
END:VEVENT
BEGIN:VEVENT
DTSTART;TZID=America/New_York:20250426T170000
DTEND;TZID=America/New_York:20250426T190000
DTSTAMP:20260422T103338
CREATED:20250331T161335Z
LAST-MODIFIED:20250331T161335Z
UID:487-1745686800-1745694000@www.gsiccharter.com
SUMMARY:Mother and Son Sneaker Ball
DESCRIPTION:Tickets on sale until April 4th.
URL:https://www.gsiccharter.com/event/mother-and-son-sneaker-ball/
CATEGORIES:Dance/Social Event
ORGANIZER;CN="Jean Vaught":MAILTO:jvaught@gsiccharter.com
END:VEVENT
BEGIN:VEVENT
DTSTART;TZID=America/New_York:20250415T180000
DTEND;TZID=America/New_York:20250415T200000
DTSTAMP:20260422T103338
CREATED:20250321T162758Z
LAST-MODIFIED:20250321T163638Z
UID:478-1744740000-1744747200@www.gsiccharter.com
SUMMARY:PTO Skate Night🛼
DESCRIPTION:Skateland of Augusta \n$7 per child (up to age 18) includes skates\, hot dog and drink.\n*Proceeds from this event will benefit PTO*
URL:https://www.gsiccharter.com/event/pto-skate-night/
LOCATION:Skateland of Augusta\, 2451 Windsor Spring Rd\, Hephzibah\, GA\, 30815\, United States
CATEGORIES:Dance/Social Event,PTO
ORGANIZER;CN="Brooke Suarez":MAILTO:bsuarez@gsiccharter.com
END:VEVENT
BEGIN:VEVENT
DTSTART;TZID=America/New_York:20250329T193000
DTEND;TZID=America/New_York:20250329T220000
DTSTAMP:20260422T103338
CREATED:20241220T150458Z
LAST-MODIFIED:20241220T150458Z
UID:386-1743276600-1743285600@www.gsiccharter.com
SUMMARY:High School Prom
DESCRIPTION:Ticketed event.\nDetails to follow.
URL:https://www.gsiccharter.com/event/high-school-prom/
LOCATION:Julian Smith Casino\, 2200 Broad St\, Augusta\, GA\, 30904\, United States
CATEGORIES:Dance/Social Event
END:VEVENT
BEGIN:VEVENT
DTSTART;TZID=America/New_York:20250221T180000
DTEND;TZID=America/New_York:20250221T200000
DTSTAMP:20260422T103338
CREATED:20250214T134219Z
LAST-MODIFIED:20250214T134219Z
UID:443-1740160800-1740168000@www.gsiccharter.com
SUMMARY:FFA Western Dance (Middle & High School) *tickets on sale thru 2/19
DESCRIPTION:
URL:https://www.gsiccharter.com/event/ffa-western-dance-middle-high-school-tickets-on-sale-thru-2-19/
LOCATION:GSIC\, 5073 Storey Mill Road\, Hephzibah\, GA\, 30815\, United States
CATEGORIES:Dance/Social Event
ORGANIZER;CN="FFA":MAILTO:John.harrison@gsiccharter.com
END:VEVENT
BEGIN:VEVENT
DTSTART;TZID=America/New_York:20250207T170000
DTEND;TZID=America/New_York:20250207T190000
DTSTAMP:20260422T103338
CREATED:20241220T145903Z
LAST-MODIFIED:20241220T145903Z
UID:378-1738947600-1738954800@www.gsiccharter.com
SUMMARY:Character Ball (Kindergarten - 3rd Grade students)
DESCRIPTION:Main Cafeteria\nTicketed event\, send money to Homeroom teacher\nSee Dojo School Story for more details
URL:https://www.gsiccharter.com/event/character-ball-kindergarten-3rd-grade-students/
LOCATION:GSIC\, 5073 Storey Mill Road\, Hephzibah\, GA\, 30815\, United States
CATEGORIES:Dance/Social Event
ORGANIZER;CN="Jean Vaught":MAILTO:jvaught@gsiccharter.com
END:VEVENT
BEGIN:VEVENT
DTSTART;TZID=America/New_York:20250118T170000
DTEND;TZID=America/New_York:20250118T190000
DTSTAMP:20260422T103338
CREATED:20241220T144635Z
LAST-MODIFIED:20241220T144635Z
UID:377-1737219600-1737226800@www.gsiccharter.com
SUMMARY:Father + Daughter Dance
DESCRIPTION:Ticketed event for female students of all ages.\nIn Main Cafeteria\nProceeds benefit 2nd Grade
URL:https://www.gsiccharter.com/event/father-daughter-dance/
LOCATION:GSIC\, 5073 Storey Mill Road\, Hephzibah\, GA\, 30815\, United States
CATEGORIES:Dance/Social Event
END:VEVENT
END:VCALENDAR