BEGIN:VCALENDAR
VERSION:2.0
PRODID:-//Georgia School of Innovation and the Classics - ECPv6.15.15//NONSGML v1.0//EN
CALSCALE:GREGORIAN
METHOD:PUBLISH
X-WR-CALNAME:Georgia School of Innovation and the Classics
X-ORIGINAL-URL:https://www.gsiccharter.com
X-WR-CALDESC:Events for Georgia School of Innovation and the Classics
REFRESH-INTERVAL;VALUE=DURATION:PT1H
X-Robots-Tag:noindex
X-PUBLISHED-TTL:PT1H
BEGIN:VTIMEZONE
TZID:America/New_York
BEGIN:DAYLIGHT
TZOFFSETFROM:-0500
TZOFFSETTO:-0400
TZNAME:EDT
DTSTART:20250309T070000
END:DAYLIGHT
BEGIN:STANDARD
TZOFFSETFROM:-0400
TZOFFSETTO:-0500
TZNAME:EST
DTSTART:20251102T060000
END:STANDARD
BEGIN:DAYLIGHT
TZOFFSETFROM:-0500
TZOFFSETTO:-0400
TZNAME:EDT
DTSTART:20260308T070000
END:DAYLIGHT
BEGIN:STANDARD
TZOFFSETFROM:-0400
TZOFFSETTO:-0500
TZNAME:EST
DTSTART:20261101T060000
END:STANDARD
BEGIN:DAYLIGHT
TZOFFSETFROM:-0500
TZOFFSETTO:-0400
TZNAME:EDT
DTSTART:20270314T070000
END:DAYLIGHT
BEGIN:STANDARD
TZOFFSETFROM:-0400
TZOFFSETTO:-0500
TZNAME:EST
DTSTART:20271107T060000
END:STANDARD
END:VTIMEZONE
BEGIN:VEVENT
DTSTART;TZID=America/New_York:20260219T080000
DTEND;TZID=America/New_York:20260219T120000
DTSTAMP:20260420T120514
CREATED:20260212T140954Z
LAST-MODIFIED:20260212T140954Z
UID:684-1771488000-1771502400@www.gsiccharter.com
SUMMARY:Spring Picture Day
DESCRIPTION:Spring Picture Day will include: \n• Class pictures for Elementary/Pre-School \n• Individual pictures for all Pre-School\, Elementary and Middle School students (proofs will be sent home) \n• High schoolers may take pictures if they want to and can report to the gym throughout the day with teacher permission. \n• Club and sports photos will also be taken throughout the day – check with sponsor/coach for specific times \nFor students being photographed\, dress code for picture day is Sunday best or uniform. Sleeveless shirts or dresses are not permitted. Shorts and skirts must be the appropriate length (no more than 2 inches above the knee). No jeans\, leggings\, spandex\, or baggy styled clothing will be permitted on picture day.
URL:https://www.gsiccharter.com/event/spring-picture-day/
END:VEVENT
END:VCALENDAR